
BEGIN:VCALENDAR
VERSION:2.0
PRODID:-//United Diocese of Cork, Cloyne and Ross - ECPv6.15.16.1//NONSGML v1.0//EN
CALSCALE:GREGORIAN
METHOD:PUBLISH
X-ORIGINAL-URL:https://cork.anglican.org
X-WR-CALDESC:Events for United Diocese of Cork, Cloyne and Ross
REFRESH-INTERVAL;VALUE=DURATION:PT1H
X-Robots-Tag:noindex
X-PUBLISHED-TTL:PT1H
BEGIN:VTIMEZONE
TZID:Europe/Paris
BEGIN:DAYLIGHT
TZOFFSETFROM:+0100
TZOFFSETTO:+0200
TZNAME:CEST
DTSTART:20240331T010000
END:DAYLIGHT
BEGIN:STANDARD
TZOFFSETFROM:+0200
TZOFFSETTO:+0100
TZNAME:CET
DTSTART:20241027T010000
END:STANDARD
BEGIN:DAYLIGHT
TZOFFSETFROM:+0100
TZOFFSETTO:+0200
TZNAME:CEST
DTSTART:20250330T010000
END:DAYLIGHT
BEGIN:STANDARD
TZOFFSETFROM:+0200
TZOFFSETTO:+0100
TZNAME:CET
DTSTART:20251026T010000
END:STANDARD
BEGIN:DAYLIGHT
TZOFFSETFROM:+0100
TZOFFSETTO:+0200
TZNAME:CEST
DTSTART:20260329T010000
END:DAYLIGHT
BEGIN:STANDARD
TZOFFSETFROM:+0200
TZOFFSETTO:+0100
TZNAME:CET
DTSTART:20261025T010000
END:STANDARD
END:VTIMEZONE
BEGIN:VEVENT
DTSTART;TZID=Europe/Paris:20251130T090000
DTEND;TZID=Europe/Paris:20251130T120000
DTSTAMP:20260426T063029
CREATED:20250205T140403Z
LAST-MODIFIED:20250205T140403Z
UID:13870-1764493200-1764504000@cork.anglican.org
SUMMARY:Bishop preaching at the  150th Anniversary of the Church of Saint Luke\, Douglas
DESCRIPTION:
URL:https://cork.anglican.org/events/bishop-preaching-at-the-150th-anniversary-of-the-church-of-saint-luke-douglas/
END:VEVENT
END:VCALENDAR