
BEGIN:VCALENDAR
VERSION:2.0
PRODID:-//United Diocese of Cork, Cloyne and Ross - ECPv6.15.16.1//NONSGML v1.0//EN
CALSCALE:GREGORIAN
METHOD:PUBLISH
X-ORIGINAL-URL:https://cork.anglican.org
X-WR-CALDESC:Events for United Diocese of Cork, Cloyne and Ross
REFRESH-INTERVAL;VALUE=DURATION:PT1H
X-Robots-Tag:noindex
X-PUBLISHED-TTL:PT1H
BEGIN:VTIMEZONE
TZID:Europe/Paris
BEGIN:DAYLIGHT
TZOFFSETFROM:+0100
TZOFFSETTO:+0200
TZNAME:CEST
DTSTART:20220327T010000
END:DAYLIGHT
BEGIN:STANDARD
TZOFFSETFROM:+0200
TZOFFSETTO:+0100
TZNAME:CET
DTSTART:20221030T010000
END:STANDARD
BEGIN:DAYLIGHT
TZOFFSETFROM:+0100
TZOFFSETTO:+0200
TZNAME:CEST
DTSTART:20230326T010000
END:DAYLIGHT
BEGIN:STANDARD
TZOFFSETFROM:+0200
TZOFFSETTO:+0100
TZNAME:CET
DTSTART:20231029T010000
END:STANDARD
BEGIN:DAYLIGHT
TZOFFSETFROM:+0100
TZOFFSETTO:+0200
TZNAME:CEST
DTSTART:20240331T010000
END:DAYLIGHT
BEGIN:STANDARD
TZOFFSETFROM:+0200
TZOFFSETTO:+0100
TZNAME:CET
DTSTART:20241027T010000
END:STANDARD
END:VTIMEZONE
BEGIN:VEVENT
DTSTART;TZID=Europe/Paris:20230122T000000
DTEND;TZID=Europe/Paris:20230122T000000
DTSTAMP:20260423T123151
CREATED:20240221T061637Z
LAST-MODIFIED:20240221T061637Z
UID:13452-1674345600-1674345600@cork.anglican.org
SUMMARY:Bandon Tractor Run
DESCRIPTION:
URL:https://cork.anglican.org/events/bandon-tractor-run/
END:VEVENT
BEGIN:VEVENT
DTSTART;TZID=Europe/Paris:20230128T000000
DTEND;TZID=Europe/Paris:20230128T000000
DTSTAMP:20260423T123151
CREATED:20240221T061636Z
LAST-MODIFIED:20240221T061636Z
UID:13451-1674864000-1674864000@cork.anglican.org
SUMMARY:Vigil for Vacant Parishes and Vocations
DESCRIPTION:
URL:https://cork.anglican.org/events/vigil-for-vacant-parishes-and-vocations/
END:VEVENT
END:VCALENDAR