
BEGIN:VCALENDAR
VERSION:2.0
PRODID:-//United Diocese of Cork, Cloyne and Ross - ECPv6.15.16.1//NONSGML v1.0//EN
CALSCALE:GREGORIAN
METHOD:PUBLISH
X-WR-CALNAME:United Diocese of Cork, Cloyne and Ross
X-ORIGINAL-URL:https://cork.anglican.org
X-WR-CALDESC:Events for United Diocese of Cork, Cloyne and Ross
REFRESH-INTERVAL;VALUE=DURATION:PT1H
X-Robots-Tag:noindex
X-PUBLISHED-TTL:PT1H
BEGIN:VTIMEZONE
TZID:Europe/Paris
BEGIN:DAYLIGHT
TZOFFSETFROM:+0100
TZOFFSETTO:+0200
TZNAME:CEST
DTSTART:20250330T010000
END:DAYLIGHT
BEGIN:STANDARD
TZOFFSETFROM:+0200
TZOFFSETTO:+0100
TZNAME:CET
DTSTART:20251026T010000
END:STANDARD
BEGIN:DAYLIGHT
TZOFFSETFROM:+0100
TZOFFSETTO:+0200
TZNAME:CEST
DTSTART:20260329T010000
END:DAYLIGHT
BEGIN:STANDARD
TZOFFSETFROM:+0200
TZOFFSETTO:+0100
TZNAME:CET
DTSTART:20261025T010000
END:STANDARD
BEGIN:DAYLIGHT
TZOFFSETFROM:+0100
TZOFFSETTO:+0200
TZNAME:CEST
DTSTART:20270328T010000
END:DAYLIGHT
BEGIN:STANDARD
TZOFFSETFROM:+0200
TZOFFSETTO:+0100
TZNAME:CET
DTSTART:20271031T010000
END:STANDARD
END:VTIMEZONE
BEGIN:VEVENT
DTSTART;TZID=Europe/Paris:20260124T100000
DTEND;TZID=Europe/Paris:20260124T133000
DTSTAMP:20260424T163623
CREATED:20251103T125751Z
LAST-MODIFIED:20251103T125751Z
UID:14027-1769248800-1769261400@cork.anglican.org
SUMMARY:Confirmation Morning 2026
DESCRIPTION:
URL:https://cork.anglican.org/events/confirmation-morning-2026/
LOCATION:Bandon Grammar School\, Clancool Beg\, Bandon\, Co. Cork\, Ireland
END:VEVENT
END:VCALENDAR